BEGIN:VCALENDAR
VERSION:2.0
PRODID:-//The Women&#039;s College - ECPv6.15.12.2//NONSGML v1.0//EN
CALSCALE:GREGORIAN
METHOD:PUBLISH
X-WR-CALNAME:The Women&#039;s College
X-ORIGINAL-URL:https://www.thewomenscollege.com.au
X-WR-CALDESC:Events for The Women&#039;s College
REFRESH-INTERVAL;VALUE=DURATION:PT1H
X-Robots-Tag:noindex
X-PUBLISHED-TTL:PT1H
BEGIN:VTIMEZONE
TZID:Australia/Sydney
BEGIN:STANDARD
TZOFFSETFROM:+1100
TZOFFSETTO:+1000
TZNAME:AEST
DTSTART:20170401T160000
END:STANDARD
BEGIN:DAYLIGHT
TZOFFSETFROM:+1000
TZOFFSETTO:+1100
TZNAME:AEDT
DTSTART:20170930T160000
END:DAYLIGHT
BEGIN:STANDARD
TZOFFSETFROM:+1100
TZOFFSETTO:+1000
TZNAME:AEST
DTSTART:20180331T160000
END:STANDARD
BEGIN:DAYLIGHT
TZOFFSETFROM:+1000
TZOFFSETTO:+1100
TZNAME:AEDT
DTSTART:20181006T160000
END:DAYLIGHT
BEGIN:STANDARD
TZOFFSETFROM:+1100
TZOFFSETTO:+1000
TZNAME:AEST
DTSTART:20190406T160000
END:STANDARD
BEGIN:DAYLIGHT
TZOFFSETFROM:+1000
TZOFFSETTO:+1100
TZNAME:AEDT
DTSTART:20191005T160000
END:DAYLIGHT
END:VTIMEZONE
BEGIN:VEVENT
DTSTART;TZID=Australia/Sydney:20181215T100000
DTEND;TZID=Australia/Sydney:20181215T150000
DTSTAMP:20260424T185647
CREATED:20181206T064957Z
LAST-MODIFIED:20181222T144836Z
UID:11718-1544868000-1544886000@www.thewomenscollege.com.au
SUMMARY:Info Day
DESCRIPTION:Visit the College on Info Day and see our beautiful new Sibyl Centre. Meet our students\, find out about our Scholarship and Affiliate Programs and explore the Women’s College. Refreshments will be available and tours with our students will run throughout the day. \nThe Women’s College Info Day is held in conjunction with the University of Sydney Info Day. \n \n 
URL:https://www.thewomenscollege.com.au/event-detail/info-day/
LOCATION:The Women’s College\, 15 Carillon Avenue\, Newtown\, NSW\, 2042\, Australia
ORGANIZER;CN="Gineke de Haan%2C Conference & Events Manager":MAILTO:conference@thewomenscollege.edu.au
END:VEVENT
END:VCALENDAR