BEGIN:VCALENDAR
VERSION:2.0
PRODID:-//The Women&#039;s College - ECPv6.15.12.2//NONSGML v1.0//EN
CALSCALE:GREGORIAN
METHOD:PUBLISH
X-ORIGINAL-URL:https://www.thewomenscollege.com.au
X-WR-CALDESC:Events for The Women&#039;s College
REFRESH-INTERVAL;VALUE=DURATION:PT1H
X-Robots-Tag:noindex
X-PUBLISHED-TTL:PT1H
BEGIN:VTIMEZONE
TZID:Australia/Sydney
BEGIN:STANDARD
TZOFFSETFROM:+1100
TZOFFSETTO:+1000
TZNAME:AEST
DTSTART:20170401T160000
END:STANDARD
BEGIN:DAYLIGHT
TZOFFSETFROM:+1000
TZOFFSETTO:+1100
TZNAME:AEDT
DTSTART:20170930T160000
END:DAYLIGHT
BEGIN:STANDARD
TZOFFSETFROM:+1100
TZOFFSETTO:+1000
TZNAME:AEST
DTSTART:20180331T160000
END:STANDARD
BEGIN:DAYLIGHT
TZOFFSETFROM:+1000
TZOFFSETTO:+1100
TZNAME:AEDT
DTSTART:20181006T160000
END:DAYLIGHT
BEGIN:STANDARD
TZOFFSETFROM:+1100
TZOFFSETTO:+1000
TZNAME:AEST
DTSTART:20190406T160000
END:STANDARD
BEGIN:DAYLIGHT
TZOFFSETFROM:+1000
TZOFFSETTO:+1100
TZNAME:AEDT
DTSTART:20191005T160000
END:DAYLIGHT
BEGIN:STANDARD
TZOFFSETFROM:+1100
TZOFFSETTO:+1000
TZNAME:AEST
DTSTART:20200404T160000
END:STANDARD
BEGIN:DAYLIGHT
TZOFFSETFROM:+1000
TZOFFSETTO:+1100
TZNAME:AEDT
DTSTART:20201003T160000
END:DAYLIGHT
BEGIN:STANDARD
TZOFFSETFROM:+1100
TZOFFSETTO:+1000
TZNAME:AEST
DTSTART:20210403T160000
END:STANDARD
BEGIN:DAYLIGHT
TZOFFSETFROM:+1000
TZOFFSETTO:+1100
TZNAME:AEDT
DTSTART:20211002T160000
END:DAYLIGHT
BEGIN:STANDARD
TZOFFSETFROM:+1100
TZOFFSETTO:+1000
TZNAME:AEST
DTSTART:20220402T160000
END:STANDARD
BEGIN:DAYLIGHT
TZOFFSETFROM:+1000
TZOFFSETTO:+1100
TZNAME:AEDT
DTSTART:20221001T160000
END:DAYLIGHT
BEGIN:STANDARD
TZOFFSETFROM:+1100
TZOFFSETTO:+1000
TZNAME:AEST
DTSTART:20230401T160000
END:STANDARD
BEGIN:DAYLIGHT
TZOFFSETFROM:+1000
TZOFFSETTO:+1100
TZNAME:AEDT
DTSTART:20230930T160000
END:DAYLIGHT
BEGIN:STANDARD
TZOFFSETFROM:+1100
TZOFFSETTO:+1000
TZNAME:AEST
DTSTART:20240406T160000
END:STANDARD
BEGIN:DAYLIGHT
TZOFFSETFROM:+1000
TZOFFSETTO:+1100
TZNAME:AEDT
DTSTART:20241005T160000
END:DAYLIGHT
BEGIN:STANDARD
TZOFFSETFROM:+1100
TZOFFSETTO:+1000
TZNAME:AEST
DTSTART:20250405T160000
END:STANDARD
BEGIN:DAYLIGHT
TZOFFSETFROM:+1000
TZOFFSETTO:+1100
TZNAME:AEDT
DTSTART:20251004T160000
END:DAYLIGHT
BEGIN:STANDARD
TZOFFSETFROM:+1100
TZOFFSETTO:+1000
TZNAME:AEST
DTSTART:20260404T160000
END:STANDARD
BEGIN:DAYLIGHT
TZOFFSETFROM:+1000
TZOFFSETTO:+1100
TZNAME:AEDT
DTSTART:20261003T160000
END:DAYLIGHT
END:VTIMEZONE
BEGIN:VEVENT
DTSTART;TZID=Australia/Sydney:20250830T100000
DTEND;TZID=Australia/Sydney:20250830T150000
DTSTAMP:20260420T183938
CREATED:20250617T232448Z
LAST-MODIFIED:20250617T234528Z
UID:49506-1756548000-1756566000@www.thewomenscollege.com.au
SUMMARY:Open Day 2025
DESCRIPTION:Join us for Open Day on Saturday 30 August 2025\, 10am – 3pm. \nMeet our staff and students and take a tour of College. Hear from Principal Dr Tiffany Donnelly at 11am and at 2pm and enjoy some light refreshments. Learn about our student support including academic and tutorial assistance\, mentor program\, internships and leadership programs. Tours will be running throughout the day. \nAll welcome. \nIf you’re unable to visit us on Open Day\, you can access our College\, scholarship and postgraduate brochures via the QR code.
URL:https://www.thewomenscollege.com.au/event-detail/open-day-2025/
LOCATION:The Women’s College\, 15 Carillon Avenue\, Newtown\, NSW\, 2042\, Australia
CATEGORIES:Prospective Students
ORGANIZER;CN="Anne-Maree McCarthy":MAILTO:registrar@thewomenscollege.edu.au
END:VEVENT
BEGIN:VEVENT
DTSTART;TZID=Australia/Sydney:20250526T180000
DTEND;TZID=Australia/Sydney:20250526T200000
DTSTAMP:20260420T183938
CREATED:20250430T032750Z
LAST-MODIFIED:20250516T111219Z
UID:48852-1748282400-1748289600@www.thewomenscollege.com.au
SUMMARY:Louisa Macdonald Oration Dinner | Monday\, 26 May 2025
DESCRIPTION:The Chair of The Women’s College Council Ms Rowena Newman\nand The Principal of The Women’s College Dr Tiffany Donnelly invite you to the \nLouisa Macdonald Oration\nin conjunction with Formal Dinner \n6:00pm Refreshments for 6.30pm Dinner – Monday\, 26 May 2025\nat The Women’s College\, 15 Carillon Avenue\, Newtown \nGuest Speaker\nDr Estelle Wallingford\nWomen’s College Resident 2015 – 2017 \nDr Estelle Wallingford is a Lecturer and legal academic in the Department of Business Law and Taxation at the Monash Business School\, where she serves as the Department’s Deputy Director of Education. Dr Wallingford is also the research program lead for the ‘Legal and public policy approaches for ethical and inclusive AI’  research program\, within the Opportunity Tech Lab in the Business School. Her research examines the legal implications of emerging technologies with a particular focus on artificial intelligence (‘AI’) and related technologies. \n$60.00 per ticket\nPlease RSVP by Friday\, 23 May 2025\nDRESS CODE: Academic/Business Dress \nFor event queries or to discuss accessibility requirements\, please contact Hannah Heading at community@thewomenscollege.edu.au or +61 2 9517 5032. \n  \nPlease purchase your ticket below the map
URL:https://www.thewomenscollege.com.au/event-detail/louisa-macdonald-oration-dinner-monday-26-may-2025/
LOCATION:The Women’s College\, 15 Carillon Avenue\, Newtown\, NSW\, 2042\, Australia
END:VEVENT
BEGIN:VEVENT
DTSTART;TZID=Australia/Sydney:20250512T180000
DTEND;TZID=Australia/Sydney:20250512T210000
DTSTAMP:20260420T183938
CREATED:20250330T231251Z
LAST-MODIFIED:20250404T090637Z
UID:46667-1747072800-1747083600@www.thewomenscollege.com.au
SUMMARY:Chancellor's Dinner 2025
DESCRIPTION:Chancellor’s Dinner \nMonday 12 May 2025\n6.00pm for 6.30pm\nThe Women’s College\, 15 Carillon Avenue\, Newtown \n  \nMr David Thodey AO\, FTSE\nThe Chancellor of The University of Sydney\nand\nOfficial Visitor to The Women’s College\nwill present the 2024 academic prizes \n  \nPlease RSVP by Monday\, 5 May 2025 \nDRESS CODE: Academic/Business Dress \nPARKING NOTE: Parking is not available within the College grounds
URL:https://www.thewomenscollege.com.au/event-detail/chancellors-dinner-2025/
LOCATION:The Women’s College\, 15 Carillon Avenue\, Newtown\, NSW\, 2042\, Australia
ORGANIZER;CN="Mary McGuirk":MAILTO:m.mcguirk@thewomenscollege.edu.au
END:VEVENT
BEGIN:VEVENT
DTSTART;TZID=Australia/Sydney:20240325T180000
DTEND;TZID=Australia/Sydney:20240325T210000
DTSTAMP:20260420T183938
CREATED:20240219T062402Z
LAST-MODIFIED:20240319T005400Z
UID:37156-1711389600-1711400400@www.thewomenscollege.com.au
SUMMARY:Chancellor's Dinner 2024
DESCRIPTION:Chancellor’s Dinner \nMonday 25 March 2024\n6.00pm for 6.30pm\nThe Women’s College\, 15 Carillon Avenue\, Newtown \n  \nMs Belinda Hutchinson AC\nThe Chancellor of The University of Sydney\nand\nOfficial Visitor to The Women’s College\nwill present the 2023 academic prizes \n  \nPlease RSVP by Monday\, 18 March 2024 \nDRESS CODE: Academic/Business Dress \nPARKING NOTE: Parking is not available within the College grounds
URL:https://www.thewomenscollege.com.au/event-detail/chancellors-dinner-2024/
LOCATION:The Women’s College\, 15 Carillon Avenue\, Newtown\, NSW\, 2042\, Australia
ORGANIZER;CN="Mary McGuirk":MAILTO:m.mcguirk@thewomenscollege.edu.au
END:VEVENT
BEGIN:VEVENT
DTSTART;TZID=Australia/Sydney:20240213T114500
DTEND;TZID=Australia/Sydney:20240213T130000
DTSTAMP:20260420T183938
CREATED:20231213T013756Z
LAST-MODIFIED:20240212T043807Z
UID:36739-1707824700-1707829200@www.thewomenscollege.com.au
SUMMARY:Welcome Lunch 2024
DESCRIPTION:The Principal\, Dr Tiffany Donnelly\, invites you to join staff and student leaders for a lunch in the Dining Hall to welcome new students to The Women’s College on Tuesday 13 February. The Dining Hall will be open from 11:45am for seating by wing groups. \nDue to limited space\, only ONE parent/guardian can attend with you. \nIf you do wish to bring a parent/guardian to the lunch and have not registered them yet\,\nregistrations have now been extended to 8pm on Monday\, 12 February. (Note: we only need your parent/guardian’s details to be entered\, not you as a student\, as we assume all new students will be attending lunch). \n 
URL:https://www.thewomenscollege.com.au/event-detail/welcome-lunch-2024/
LOCATION:The Women’s College\, 15 Carillon Avenue\, Newtown\, NSW\, 2042\, Australia
ORGANIZER;CN="Gineke de Haan%2C Conference & Events Manager":MAILTO:conference@thewomenscollege.edu.au
END:VEVENT
BEGIN:VEVENT
DTSTART;TZID=Australia/Sydney:20230826T100000
DTEND;TZID=Australia/Sydney:20230826T150000
DTSTAMP:20260420T183938
CREATED:20230710T055222Z
LAST-MODIFIED:20230713T061556Z
UID:33562-1693044000-1693062000@www.thewomenscollege.com.au
SUMMARY:Open Day 2023
DESCRIPTION:Join us for Open Day on Saturday 26 August 2023\, 10am – 3pm. Meet our staff and students and take a tour of College. Hear from the College Principal at 11am and at 2pm and enjoy some light refreshments. Learn about our student support including academic and tutorial assistance\, mentor program\, internships and leadership programs. Tours will be running throughout the day. Register now via Try Booking.
URL:https://www.thewomenscollege.com.au/event-detail/open-day-2023/
LOCATION:The Women’s College\, 15 Carillon Avenue\, Newtown\, NSW\, 2042\, Australia
CATEGORIES:Prospective Students
ORGANIZER;CN="Anne-Maree McCarthy":MAILTO:registrar@thewomenscollege.edu.au
END:VEVENT
BEGIN:VEVENT
DTSTART;TZID=Australia/Sydney:20230522T180000
DTEND;TZID=Australia/Sydney:20230522T203000
DTSTAMP:20260420T183938
CREATED:20230418T010920Z
LAST-MODIFIED:20230418T230039Z
UID:30831-1684778400-1684787400@www.thewomenscollege.com.au
SUMMARY:Louisa Macdonald Oration
DESCRIPTION:The Chair of The Women’s College Council Ms Samantha Gavel\nand The Principal of The Women’s College Dr Tiffany Donnelly invite you to the \n  \nLouisa Macdonald Oration\nin conjunction with Formal Dinner \n  \n6:00pm for 6.30pm Monday 22 May 2023\nat The Women’s College\, 15 Carillon Avenue\, Newtown \n  \nGuest Speaker\nThe Hon Dr Meredith Burgmann AM\nWomen’s College Alumna (1967-1968) \nFormer Member and President of the New South Wales Legislative Council \n  \n$77.00 per ticket\nPlease RSVP by Monday\, 15 May 2023\nDRESS CODE: Academic/Business Dress\nPARKING NOTE: Parking is not available within the College grounds
URL:https://www.thewomenscollege.com.au/event-detail/louisa-macdonald-oration-3/
LOCATION:The Women’s College\, 15 Carillon Avenue\, Newtown\, NSW\, 2042\, Australia
CATEGORIES:Alumnae
ORGANIZER;CN="Mary McGuirk":MAILTO:m.mcguirk@thewomenscollege.edu.au
END:VEVENT
BEGIN:VEVENT
DTSTART;TZID=Australia/Sydney:20220121T100000
DTEND;TZID=Australia/Sydney:20220121T150000
DTSTAMP:20260420T183938
CREATED:20211110T025409Z
LAST-MODIFIED:20220111T214946Z
UID:21056-1642759200-1642777200@www.thewomenscollege.com.au
SUMMARY:CANCELLED: Info Day Friday 21 January 2022
DESCRIPTION:Please note that our Info Day has been cancelled.  \nWe hope to hold in-person events for prospective students\, families and careers advisors later in the year. Keep an eye on our website and social media for updates.
URL:https://www.thewomenscollege.com.au/event-detail/info-day-friday-21-january-2022/
LOCATION:The Women’s College\, 15 Carillon Avenue\, Newtown\, NSW\, 2042\, Australia
END:VEVENT
BEGIN:VEVENT
DTSTART;TZID=Australia/Sydney:20191219T100000
DTEND;TZID=Australia/Sydney:20191219T150000
DTSTAMP:20260420T183938
CREATED:20191119T232525Z
LAST-MODIFIED:20191119T235437Z
UID:15095-1576749600-1576767600@www.thewomenscollege.com.au
SUMMARY:Info Day
DESCRIPTION:Visit the College on Info Day and see our beautiful new Sibyl Centre. Meet our students\, find out about our Scholarship and Affiliate Programs and explore the Women’s College. Refreshments will be available and tours with our students will run throughout the day. \nThe Women’s College Info Day is held in conjunction with the University of Sydney Info Day. \n \nInfo Day Program 2019 The Women’s College
URL:https://www.thewomenscollege.com.au/event-detail/info-day-2/
LOCATION:The Women’s College\, 15 Carillon Avenue\, Newtown\, NSW\, 2042\, Australia
ORGANIZER;CN="Anne-Maree McCarthy":MAILTO:registrar@thewomenscollege.edu.au
END:VEVENT
BEGIN:VEVENT
DTSTART;TZID=Australia/Sydney:20181215T100000
DTEND;TZID=Australia/Sydney:20181215T150000
DTSTAMP:20260420T183938
CREATED:20181206T064957Z
LAST-MODIFIED:20181222T144836Z
UID:11718-1544868000-1544886000@www.thewomenscollege.com.au
SUMMARY:Info Day
DESCRIPTION:Visit the College on Info Day and see our beautiful new Sibyl Centre. Meet our students\, find out about our Scholarship and Affiliate Programs and explore the Women’s College. Refreshments will be available and tours with our students will run throughout the day. \nThe Women’s College Info Day is held in conjunction with the University of Sydney Info Day. \n \n 
URL:https://www.thewomenscollege.com.au/event-detail/info-day/
LOCATION:The Women’s College\, 15 Carillon Avenue\, Newtown\, NSW\, 2042\, Australia
ORGANIZER;CN="Gineke de Haan%2C Conference & Events Manager":MAILTO:conference@thewomenscollege.edu.au
END:VEVENT
END:VCALENDAR