BEGIN:VCALENDAR
VERSION:2.0
PRODID:-//The Women&#039;s College - ECPv6.15.12.2//NONSGML v1.0//EN
CALSCALE:GREGORIAN
METHOD:PUBLISH
X-WR-CALNAME:The Women&#039;s College
X-ORIGINAL-URL:https://www.thewomenscollege.com.au
X-WR-CALDESC:Events for The Women&#039;s College
REFRESH-INTERVAL;VALUE=DURATION:PT1H
X-Robots-Tag:noindex
X-PUBLISHED-TTL:PT1H
BEGIN:VTIMEZONE
TZID:Australia/Sydney
BEGIN:STANDARD
TZOFFSETFROM:+1100
TZOFFSETTO:+1000
TZNAME:AEST
DTSTART:20250405T160000
END:STANDARD
BEGIN:DAYLIGHT
TZOFFSETFROM:+1000
TZOFFSETTO:+1100
TZNAME:AEDT
DTSTART:20251004T160000
END:DAYLIGHT
BEGIN:STANDARD
TZOFFSETFROM:+1100
TZOFFSETTO:+1000
TZNAME:AEST
DTSTART:20260404T160000
END:STANDARD
BEGIN:DAYLIGHT
TZOFFSETFROM:+1000
TZOFFSETTO:+1100
TZNAME:AEDT
DTSTART:20261003T160000
END:DAYLIGHT
BEGIN:STANDARD
TZOFFSETFROM:+1100
TZOFFSETTO:+1000
TZNAME:AEST
DTSTART:20270403T160000
END:STANDARD
BEGIN:DAYLIGHT
TZOFFSETFROM:+1000
TZOFFSETTO:+1100
TZNAME:AEDT
DTSTART:20271002T160000
END:DAYLIGHT
END:VTIMEZONE
BEGIN:VEVENT
DTSTART;TZID=Australia/Sydney:20260514T173000
DTEND;TZID=Australia/Sydney:20260514T200000
DTSTAMP:20260425T221322
CREATED:20260417T021033Z
LAST-MODIFIED:20260421T234452Z
UID:54791-1778779800-1778788800@www.thewomenscollege.com.au
SUMMARY:Workplace Disruption and AI: What does it mean for women’s careers?
DESCRIPTION:Registrations from 5.30pm for 6pm start \n\nAI IS RESHAPING THE WAY WE WORK – AND THE PACE OF CHANGE IS ONLY ACCELERATING  \nJoin us at Deloitte Australia for a Women’s College Alumnae Industry Forum exploring how this shift is redefining careers\, and how women can position themselves to navigate – and lead – what comes next. \nWe are delighted to bring together a distinguished panel of alumnae representing a breadth of experience across industries and leadership roles. \n\nMODERATOR\nBridget Sweeney [2007–09] is a Director in Deloitte’s Healthcare Solutions practice\, leading healthcare and human services organisations through large-scale\, complex technology-enabled transformation. Her career began as a Radiographer and it is that clinical grounding that drives her belief that we must shape\, not just navigate\, technology and AI to deliver real outcomes: for patients\, for clinicians\, and for the system.   \n  \nPANELISTS\nEdwina Burn [2006–08] brings deep expertise in AI and data-led transformation\, having previously led strategic operations for AI\, data and technology initiatives within Macquarie Group’s global trading business. She has recently joined Visa as a Senior Director where she oversees key business transformation initiatives and Visa’s regional go-to-market function. \n  \nIsabelle Guyot [2007–10] is a Partner in Allens’ Data\, Technology and Telecommunications practice\, advising organisations on AI governance\, regulation\, and the responsible use of AI technologies across multiple sectors. She also advises on cyber risk and incident response\, bringing practical insight into both the opportunities and emerging risks associated with AI. \n  \nNicholle Lindner [HEWESTON 1990–93] is a senior financial services and technology executive focused on applying emerging technologies\, including AI\, to deliver sustainable\, customer‑focused outcomes. She has advised on technology\, strategy\, innovation and operating models aligned to business objectives\, with extensive experience in future-ready IT capability\, ecosystem partnerships and digital transformation. \n  \nA Q&A session will follow\, with an opportunity for alumnae to connect over refreshments. Places are limited.
URL:https://www.thewomenscollege.com.au/event-detail/workplace-disruption-and-ai-what-does-it-mean-for-womens-careers/
LOCATION:Deloitte Australia\, Quay Quarter Tower\, Level 46\, 50 Bridge St\, Sydney\, Australia
CATEGORIES:Alumnae
END:VEVENT
END:VCALENDAR